BEGIN:VCALENDAR
VERSION:2.0
PRODID:-//Fundación Cajamurcia - ECPv6.15.20//NONSGML v1.0//EN
CALSCALE:GREGORIAN
METHOD:PUBLISH
X-WR-CALNAME:Fundación Cajamurcia
X-ORIGINAL-URL:https://www.fundacioncajamurcia.es
X-WR-CALDESC:Eventos para Fundación Cajamurcia
REFRESH-INTERVAL;VALUE=DURATION:PT1H
X-Robots-Tag:noindex
X-PUBLISHED-TTL:PT1H
BEGIN:VTIMEZONE
TZID:Europe/Paris
BEGIN:DAYLIGHT
TZOFFSETFROM:+0100
TZOFFSETTO:+0200
TZNAME:CEST
DTSTART:20220327T010000
END:DAYLIGHT
BEGIN:STANDARD
TZOFFSETFROM:+0200
TZOFFSETTO:+0100
TZNAME:CET
DTSTART:20221030T010000
END:STANDARD
BEGIN:DAYLIGHT
TZOFFSETFROM:+0100
TZOFFSETTO:+0200
TZNAME:CEST
DTSTART:20230326T010000
END:DAYLIGHT
BEGIN:STANDARD
TZOFFSETFROM:+0200
TZOFFSETTO:+0100
TZNAME:CET
DTSTART:20231029T010000
END:STANDARD
BEGIN:DAYLIGHT
TZOFFSETFROM:+0100
TZOFFSETTO:+0200
TZNAME:CEST
DTSTART:20240331T010000
END:DAYLIGHT
BEGIN:STANDARD
TZOFFSETFROM:+0200
TZOFFSETTO:+0100
TZNAME:CET
DTSTART:20241027T010000
END:STANDARD
END:VTIMEZONE
BEGIN:VEVENT
DTSTART;VALUE=DATE:20230321
DTEND;VALUE=DATE:20230325
DTSTAMP:20260424T015048
CREATED:20230313T093256Z
LAST-MODIFIED:20230317T102755Z
UID:13306-1679356800-1679702399@www.fundacioncajamurcia.es
SUMMARY:III Jornadas de cine francés
DESCRIPTION:PROGRAMA \nMartes 21 de marzo\n18h – ACTO DE INAUGURACIÓN\nDe 18:30h. a 19:30h. : CONFERENCIA\nRedefinición de identidades en el ámbito social y su reflejo en el panorama cinematográfico actual\n– Enfoque sociológico y didáctico. \nDe 19:30h a 21h.: PELICULA\nUn divan à Tunis/ Un diván en Túnez (2020)\nDirector: Manele Labidi\nProducción franco – tunecina \nMiércoles 22 de marzo\nDe 16h. a 18h. : RECITAL DE POESÍA FRANCÓFONA: IDENTIDADES\nAlumnos del Grado en Estudios Franceses de diversas universidades e institutos de la Región de Murcia\nEn el Hemiciclo de la facultad de letras\, Campus de la Merced \nDe 18:30h. a 19:30h. : CONFERENCIA\nMarco legal de Identidades\, personas y orientaciones\n– Enfoque jurídico \nDe 19:30h. a 21:30h. : PELÍCULA\nUne nouvelle amie / Una nueva amiga (2014)\nDirector: François Ozon\nProducción Francesa \nViernes 24 de marzo\nDe 18h. a 19h. : MESA REDONDA\nIdentidades\, orientaciones\, personas\n– Inclusión social y lingüística\n– Experiencia personal \nRepresentantes de Colectivo No Te Prives\nLGTBIQ+ Atyo de Murcia \nDe 19h. a 20:30h. : PELÍCULA\nLola vers la mer / Lola hacia el mar (2019)\nDirector: Laurent Micheli\nCoproducción Bélgica – Francia \nDe 20:30h. a 21h. : ACTO DE CLAUSURA \nINSCRIPCIONES\nENLACE: https://casiopea.um.es/cursospe/tematicascineiii.f\nCertificado académico Vicerrectorado. Convalidación: 0\,5\ncréditos CRAU.
URL:https://www.fundacioncajamurcia.es/agenda/iii-jornadas-de-cine-frances/
LOCATION:Aula de Cultura de Fundación Cajamurcia en Murcia\, Aula de Cultura de Fundación Cajamurcia en Murcia. Gran Vía Escultor Francisco Salzillo\, 23\, Murcia\, Murcia\, 30001
CATEGORIES:Actividades,Agenda,Aula de Cultura de Murcia,Ciclo,Cultura,Proyección
ATTACH;FMTTYPE=image/jpeg:https://www.fundacioncajamurcia.es/wp-content/uploads/2023/03/parisfrancia_770.jpg
ORGANIZER;CN="Universidad de Murcia":MAILTO:cultura@um.es
END:VEVENT
END:VCALENDAR