BEGIN:VCALENDAR
VERSION:2.0
PRODID:-//Fundación Cajamurcia - ECPv6.15.20//NONSGML v1.0//EN
CALSCALE:GREGORIAN
METHOD:PUBLISH
X-ORIGINAL-URL:https://www.fundacioncajamurcia.es
X-WR-CALDESC:Eventos para Fundación Cajamurcia
REFRESH-INTERVAL;VALUE=DURATION:PT1H
X-Robots-Tag:noindex
X-PUBLISHED-TTL:PT1H
BEGIN:VTIMEZONE
TZID:Europe/Paris
BEGIN:DAYLIGHT
TZOFFSETFROM:+0100
TZOFFSETTO:+0200
TZNAME:CEST
DTSTART:20250330T010000
END:DAYLIGHT
BEGIN:STANDARD
TZOFFSETFROM:+0200
TZOFFSETTO:+0100
TZNAME:CET
DTSTART:20251026T010000
END:STANDARD
BEGIN:DAYLIGHT
TZOFFSETFROM:+0100
TZOFFSETTO:+0200
TZNAME:CEST
DTSTART:20260329T010000
END:DAYLIGHT
BEGIN:STANDARD
TZOFFSETFROM:+0200
TZOFFSETTO:+0100
TZNAME:CET
DTSTART:20261025T010000
END:STANDARD
BEGIN:DAYLIGHT
TZOFFSETFROM:+0100
TZOFFSETTO:+0200
TZNAME:CEST
DTSTART:20270328T010000
END:DAYLIGHT
BEGIN:STANDARD
TZOFFSETFROM:+0200
TZOFFSETTO:+0100
TZNAME:CET
DTSTART:20271031T010000
END:STANDARD
END:VTIMEZONE
BEGIN:VEVENT
DTSTART;TZID=Europe/Paris:20260120T193000
DTEND;TZID=Europe/Paris:20260120T193000
DTSTAMP:20260423T123445
CREATED:20260115T120902Z
LAST-MODIFIED:20260115T131537Z
UID:16654-1768937400-1768937400@www.fundacioncajamurcia.es
SUMMARY:Qué saber de Basti ibérica antes de visitar el yacimiento arqueológico de Baza (Granada)
DESCRIPTION:Conferencia en la que intervendrá D. Andrés M.ª Adroher Auroux\, catedrático de la Universidad de Granada\, actuando de moderador D. Andrés Martínez Rodríguez\, director del Museo Arqueológico Municipal de Lorca.\n \nImagen: Recreación de la vestimenta de la Dama de Baza. Foto: Jesús Gómez Carrasco.\n  \nOrganiza:\nMUAL. Museo Arqueológico de Lorca\nAmigos del Museo Arqueológico de Lorca
URL:https://www.fundacioncajamurcia.es/agenda/que-saber-de-basti-iberica-antes-de-visitar-el-yacimiento-arqueologico-de-baza-granada/
LOCATION:Aula de Cultura de Fundación Cajamurcia en Lorca\, C/ Pío XII\, 27\, Lorca\, Lorca\, 30800
CATEGORIES:Actividades,Agenda,Aula de Cultura de Lorca,Conferencia,Curso,Educación
ATTACH;FMTTYPE=image/png:https://www.fundacioncajamurcia.es/wp-content/uploads/2026/01/damabaza_770.png
END:VEVENT
END:VCALENDAR