BEGIN:VCALENDAR
VERSION:2.0
PRODID:-//Fundación Cajamurcia - ECPv6.15.20//NONSGML v1.0//EN
CALSCALE:GREGORIAN
METHOD:PUBLISH
X-ORIGINAL-URL:https://www.fundacioncajamurcia.es
X-WR-CALDESC:Eventos para Fundación Cajamurcia
REFRESH-INTERVAL;VALUE=DURATION:PT1H
X-Robots-Tag:noindex
X-PUBLISHED-TTL:PT1H
BEGIN:VTIMEZONE
TZID:Europe/Paris
BEGIN:DAYLIGHT
TZOFFSETFROM:+0100
TZOFFSETTO:+0200
TZNAME:CEST
DTSTART:20240331T010000
END:DAYLIGHT
BEGIN:STANDARD
TZOFFSETFROM:+0200
TZOFFSETTO:+0100
TZNAME:CET
DTSTART:20241027T010000
END:STANDARD
BEGIN:DAYLIGHT
TZOFFSETFROM:+0100
TZOFFSETTO:+0200
TZNAME:CEST
DTSTART:20250330T010000
END:DAYLIGHT
BEGIN:STANDARD
TZOFFSETFROM:+0200
TZOFFSETTO:+0100
TZNAME:CET
DTSTART:20251026T010000
END:STANDARD
BEGIN:DAYLIGHT
TZOFFSETFROM:+0100
TZOFFSETTO:+0200
TZNAME:CEST
DTSTART:20260329T010000
END:DAYLIGHT
BEGIN:STANDARD
TZOFFSETFROM:+0200
TZOFFSETTO:+0100
TZNAME:CET
DTSTART:20261025T010000
END:STANDARD
END:VTIMEZONE
BEGIN:VEVENT
DTSTART;TZID=Europe/Paris:20250224T190000
DTEND;TZID=Europe/Paris:20250327T190000
DTSTAMP:20260421T125124
CREATED:20250219T074704Z
LAST-MODIFIED:20250221T114625Z
UID:15357-1740423600-1743102000@www.fundacioncajamurcia.es
SUMMARY:El mundo clásico en las ciencias y las artes
DESCRIPTION:V Curso \nPROGRAMA \nFEBRERO \n24 de febrero\nEl mundo clásico a través de la filatelia española\nEsteban Calderón Catedrático de Filología Griega UMU \n27 de febrero\nNuestros clásicos en la radio y en la televisión españolas: del libro al sofá\nCarmen González Vázquez Catedrática de Filología Latina UAM \nDirección: Pablo Piqueras Yagüe\nCoordinación: Jésica Navarro Diana \nAsistencia libre hasta completar aforo\n___\nInscripción: gratuita para socios\, 60 € para no socios.\nMáximo de acreditados: 25 (por orden de inscripción)\nEnviar a seecmurcia@gmail.com hasta el 23 de febrero\nCuenta bancaria: ES10 2100 2391 0602 0006 3042 (CaixaBank)\n___\nLa inscripción y la asistencia al 80 % de las sesiones es obligatoria para recibir\nel certificado correspondiente. Curso con reconocimiento oficial de 3 créditos \nOrganiza:\nSociedad Española de Estudios Clásicos\nUMU\nDepartamento de Filología Clásica
URL:https://www.fundacioncajamurcia.es/agenda/el-mundo-clasico-en-las-ciencias-y-las-artes-2/
LOCATION:Centro Cultural Las Claras de Fundación Cajamurcia\, Centro Cultural Las Claras C/ Santa Clara\, 1.\, Murcia\, Murcia\, 30008
CATEGORIES:Actividades,Agenda,Centro Cultural Las Claras Cajamurcia,Cultura,Curso
ATTACH;FMTTYPE=image/png:https://www.fundacioncajamurcia.es/wp-content/uploads/2025/02/luna_moon_770.png
ORGANIZER;CN="Universidad de Murcia":MAILTO:cultura@um.es
END:VEVENT
END:VCALENDAR