BEGIN:VCALENDAR
VERSION:2.0
PRODID:-//Fundación Cajamurcia - ECPv6.15.20//NONSGML v1.0//EN
CALSCALE:GREGORIAN
METHOD:PUBLISH
X-ORIGINAL-URL:https://www.fundacioncajamurcia.es
X-WR-CALDESC:Eventos para Fundación Cajamurcia
REFRESH-INTERVAL;VALUE=DURATION:PT1H
X-Robots-Tag:noindex
X-PUBLISHED-TTL:PT1H
BEGIN:VTIMEZONE
TZID:Europe/Paris
BEGIN:DAYLIGHT
TZOFFSETFROM:+0100
TZOFFSETTO:+0200
TZNAME:CEST
DTSTART:20230326T010000
END:DAYLIGHT
BEGIN:STANDARD
TZOFFSETFROM:+0200
TZOFFSETTO:+0100
TZNAME:CET
DTSTART:20231029T010000
END:STANDARD
BEGIN:DAYLIGHT
TZOFFSETFROM:+0100
TZOFFSETTO:+0200
TZNAME:CEST
DTSTART:20240331T010000
END:DAYLIGHT
BEGIN:STANDARD
TZOFFSETFROM:+0200
TZOFFSETTO:+0100
TZNAME:CET
DTSTART:20241027T010000
END:STANDARD
BEGIN:DAYLIGHT
TZOFFSETFROM:+0100
TZOFFSETTO:+0200
TZNAME:CEST
DTSTART:20250330T010000
END:DAYLIGHT
BEGIN:STANDARD
TZOFFSETFROM:+0200
TZOFFSETTO:+0100
TZNAME:CET
DTSTART:20251026T010000
END:STANDARD
BEGIN:DAYLIGHT
TZOFFSETFROM:+0100
TZOFFSETTO:+0200
TZNAME:CEST
DTSTART:20260329T010000
END:DAYLIGHT
BEGIN:STANDARD
TZOFFSETFROM:+0200
TZOFFSETTO:+0100
TZNAME:CET
DTSTART:20261025T010000
END:STANDARD
END:VTIMEZONE
BEGIN:VEVENT
DTSTART;VALUE=DATE:20241208
DTEND;VALUE=DATE:20250107
DTSTAMP:20260421T143301
CREATED:20241213T090758Z
LAST-MODIFIED:20250103T073630Z
UID:15067-1733616000-1736207999@www.fundacioncajamurcia.es
SUMMARY:Belén monumental
DESCRIPTION:Dirección y elaboración Hermanas Clarisas Hellín Murcia \nHorario\nDe Lunes a Domingo y Festivos\nMañana: 10 a 13h.\nTarde: 16 a 21h. \nCerrado los días 24 y 31 de diciembre y 5 de enero por la tarde \nColabora\nViveros Bermejo\nUCAM\nDemetrio\nA.Saorin\nMuseo Santa Clara Murcia\nFundación Cajamurcia
URL:https://www.fundacioncajamurcia.es/agenda/belen-monumental/
LOCATION:Museo de Santa Clara\, Museo de Santa Clara - Paseo Alfonso X El Sabio\, s/n\, Murcia\, 30007\, Spain
CATEGORIES:Actividades,Agenda,Curso,Educación
ATTACH;FMTTYPE=image/png:https://www.fundacioncajamurcia.es/wp-content/uploads/2024/12/estrellabelen_770.png
END:VEVENT
END:VCALENDAR